BEGIN:VCALENDAR
VERSION:2.0
PRODID:-//Plone.org//NONSGML plone.app.event//EN
X-WR-TIMEZONE:Europe/Madrid
BEGIN:VEVENT
SUMMARY:Esdeveniment de mostra 2
DTSTART;TZID=Europe/Madrid:20240215T110000
DTEND;TZID=Europe/Madrid:20640205T110000
DTSTAMP:20260419T203731Z
UID:74d1018da7f54c80a5ed44ee25b60f55@espaiestudiantat.cfis.upc.edu
CONTACT:Responsable esdeveniment\, adreca@noreply.com
CREATED:20240215T103224Z
LAST-MODIFIED:20240215T103225Z
LOCATION:Lloc de l'esdeveniment
URL:https://espaiestudiantat.cfis.upc.edu/ca/esdeveniments/esdeveniment-de
 -mostra-2
END:VEVENT
BEGIN:VTIMEZONE
TZID:Europe/Madrid
X-LIC-LOCATION:Europe/Madrid
BEGIN:STANDARD
DTSTART:20231029T020000
TZNAME:CET
TZOFFSETFROM:+0200
TZOFFSETTO:+0100
END:STANDARD
BEGIN:STANDARD
DTSTART:20371025T020000
TZNAME:CET
TZOFFSETFROM:+0200
TZOFFSETTO:+0100
END:STANDARD
END:VTIMEZONE
END:VCALENDAR
